BEGIN:VCALENDAR
VERSION:2.0
PRODID:-//Woodbridge AA - ECPv6.15.20//NONSGML v1.0//EN
CALSCALE:GREGORIAN
METHOD:PUBLISH
X-WR-CALNAME:Woodbridge AA
X-ORIGINAL-URL:https://woodbridgeaa.org
X-WR-CALDESC:Events for Woodbridge AA
REFRESH-INTERVAL;VALUE=DURATION:PT1H
X-Robots-Tag:noindex
X-PUBLISHED-TTL:PT1H
BEGIN:VTIMEZONE
TZID:America/New_York
BEGIN:DAYLIGHT
TZOFFSETFROM:-0500
TZOFFSETTO:-0400
TZNAME:EDT
DTSTART:20230312T070000
END:DAYLIGHT
BEGIN:STANDARD
TZOFFSETFROM:-0400
TZOFFSETTO:-0500
TZNAME:EST
DTSTART:20231105T060000
END:STANDARD
BEGIN:DAYLIGHT
TZOFFSETFROM:-0500
TZOFFSETTO:-0400
TZNAME:EDT
DTSTART:20240310T070000
END:DAYLIGHT
BEGIN:STANDARD
TZOFFSETFROM:-0400
TZOFFSETTO:-0500
TZNAME:EST
DTSTART:20241103T060000
END:STANDARD
BEGIN:DAYLIGHT
TZOFFSETFROM:-0500
TZOFFSETTO:-0400
TZNAME:EDT
DTSTART:20250309T070000
END:DAYLIGHT
BEGIN:STANDARD
TZOFFSETFROM:-0400
TZOFFSETTO:-0500
TZNAME:EST
DTSTART:20251102T060000
END:STANDARD
END:VTIMEZONE
BEGIN:VEVENT
DTSTART;TZID=America/New_York:20241109T080000
DTEND;TZID=America/New_York:20241109T130000
DTSTAMP:20260424T200049
CREATED:20240819T140733Z
LAST-MODIFIED:20240819T141119Z
UID:6586-1731139200-1731157200@woodbridgeaa.org
SUMMARY:89 Years Later: How did we get here? An AA History Panel
DESCRIPTION:
URL:https://woodbridgeaa.org/event/89-years-later-how-did-we-get-here-an-aa-history-panel/
LOCATION:bethel lutheran church\, 8712 Plantation Lane\, Manassas\, Virginia\, 20110\, United States
ATTACH;FMTTYPE=image/jpeg:https://woodbridgeaa.org/wp-content/uploads/2024/08/aa-event-89-yrs-later-2.jpg
END:VEVENT
END:VCALENDAR