BEGIN:VCALENDAR
VERSION:2.0
PRODID:-//Woodbridge AA - ECPv6.15.20//NONSGML v1.0//EN
CALSCALE:GREGORIAN
METHOD:PUBLISH
X-WR-CALNAME:Woodbridge AA
X-ORIGINAL-URL:https://woodbridgeaa.org
X-WR-CALDESC:Events for Woodbridge AA
REFRESH-INTERVAL;VALUE=DURATION:PT1H
X-Robots-Tag:noindex
X-PUBLISHED-TTL:PT1H
BEGIN:VTIMEZONE
TZID:America/New_York
BEGIN:DAYLIGHT
TZOFFSETFROM:-0500
TZOFFSETTO:-0400
TZNAME:EDT
DTSTART:20240310T070000
END:DAYLIGHT
BEGIN:STANDARD
TZOFFSETFROM:-0400
TZOFFSETTO:-0500
TZNAME:EST
DTSTART:20241103T060000
END:STANDARD
BEGIN:DAYLIGHT
TZOFFSETFROM:-0500
TZOFFSETTO:-0400
TZNAME:EDT
DTSTART:20250309T070000
END:DAYLIGHT
BEGIN:STANDARD
TZOFFSETFROM:-0400
TZOFFSETTO:-0500
TZNAME:EST
DTSTART:20251102T060000
END:STANDARD
BEGIN:DAYLIGHT
TZOFFSETFROM:-0500
TZOFFSETTO:-0400
TZNAME:EDT
DTSTART:20260308T070000
END:DAYLIGHT
BEGIN:STANDARD
TZOFFSETFROM:-0400
TZOFFSETTO:-0500
TZNAME:EST
DTSTART:20261101T060000
END:STANDARD
END:VTIMEZONE
BEGIN:VEVENT
DTSTART;TZID=America/New_York:20250802T173000
DTEND;TZID=America/New_York:20250802T200000
DTSTAMP:20260424T074524
CREATED:20250606T004429Z
LAST-MODIFIED:20250606T004430Z
UID:6767-1754155800-1754164800@woodbridgeaa.org
SUMMARY:Karaoke Night
DESCRIPTION:2nd Annual Karaoke Night! \n\n\n\n \n\n\n\nCoffee and cold drinks will be provided by the District.Please bring entrees\, sides and desserts to share. \n\n\n\n \n\n\n\nUnleash your inner pop sensation!Meeting at 5:30 PMKaraoke starts at 7:00 PM
URL:https://woodbridgeaa.org/event/karaoke-night/
LOCATION:Bethel United Methodist Church\, 13506 Minnieville Road\, Woodbridge\, VA\, 22192\, United States
ATTACH;FMTTYPE=image/png:https://woodbridgeaa.org/wp-content/uploads/2025/06/Karaoke-District-28.png
END:VEVENT
END:VCALENDAR