BEGIN:VCALENDAR
VERSION:2.0
PRODID:-//Woodbridge AA - ECPv6.15.20//NONSGML v1.0//EN
CALSCALE:GREGORIAN
METHOD:PUBLISH
X-WR-CALNAME:Woodbridge AA
X-ORIGINAL-URL:https://woodbridgeaa.org
X-WR-CALDESC:Events for Woodbridge AA
REFRESH-INTERVAL;VALUE=DURATION:PT1H
X-Robots-Tag:noindex
X-PUBLISHED-TTL:PT1H
BEGIN:VTIMEZONE
TZID:America/New_York
BEGIN:DAYLIGHT
TZOFFSETFROM:-0500
TZOFFSETTO:-0400
TZNAME:EDT
DTSTART:20240310T070000
END:DAYLIGHT
BEGIN:STANDARD
TZOFFSETFROM:-0400
TZOFFSETTO:-0500
TZNAME:EST
DTSTART:20241103T060000
END:STANDARD
BEGIN:DAYLIGHT
TZOFFSETFROM:-0500
TZOFFSETTO:-0400
TZNAME:EDT
DTSTART:20250309T070000
END:DAYLIGHT
BEGIN:STANDARD
TZOFFSETFROM:-0400
TZOFFSETTO:-0500
TZNAME:EST
DTSTART:20251102T060000
END:STANDARD
BEGIN:DAYLIGHT
TZOFFSETFROM:-0500
TZOFFSETTO:-0400
TZNAME:EDT
DTSTART:20260308T070000
END:DAYLIGHT
BEGIN:STANDARD
TZOFFSETFROM:-0400
TZOFFSETTO:-0500
TZNAME:EST
DTSTART:20261101T060000
END:STANDARD
END:VTIMEZONE
BEGIN:VEVENT
DTSTART;TZID=America/New_York:20251025T100000
DTEND;TZID=America/New_York:20251025T130000
DTSTAMP:20260424T043907
CREATED:20251012T013405Z
LAST-MODIFIED:20251012T013406Z
UID:6858-1761386400-1761397200@woodbridgeaa.org
SUMMARY:District 28 Fall Workshop 2025
DESCRIPTION:
URL:https://woodbridgeaa.org/event/district-28-fall-workshop-2025/
LOCATION:VA
ATTACH;FMTTYPE=image/jpeg:https://woodbridgeaa.org/wp-content/uploads/2025/10/Fall-Workshop-2025.jpg
END:VEVENT
END:VCALENDAR