BEGIN:VCALENDAR
VERSION:2.0
PRODID:-//Woodbridge AA - ECPv6.15.20//NONSGML v1.0//EN
CALSCALE:GREGORIAN
METHOD:PUBLISH
X-ORIGINAL-URL:https://woodbridgeaa.org
X-WR-CALDESC:Events for Woodbridge AA
REFRESH-INTERVAL;VALUE=DURATION:PT1H
X-Robots-Tag:noindex
X-PUBLISHED-TTL:PT1H
BEGIN:VTIMEZONE
TZID:America/New_York
BEGIN:DAYLIGHT
TZOFFSETFROM:-0500
TZOFFSETTO:-0400
TZNAME:EDT
DTSTART:20240310T070000
END:DAYLIGHT
BEGIN:STANDARD
TZOFFSETFROM:-0400
TZOFFSETTO:-0500
TZNAME:EST
DTSTART:20241103T060000
END:STANDARD
BEGIN:DAYLIGHT
TZOFFSETFROM:-0500
TZOFFSETTO:-0400
TZNAME:EDT
DTSTART:20250309T070000
END:DAYLIGHT
BEGIN:STANDARD
TZOFFSETFROM:-0400
TZOFFSETTO:-0500
TZNAME:EST
DTSTART:20251102T060000
END:STANDARD
BEGIN:DAYLIGHT
TZOFFSETFROM:-0500
TZOFFSETTO:-0400
TZNAME:EDT
DTSTART:20260308T070000
END:DAYLIGHT
BEGIN:STANDARD
TZOFFSETFROM:-0400
TZOFFSETTO:-0500
TZNAME:EST
DTSTART:20261101T060000
END:STANDARD
END:VTIMEZONE
BEGIN:VEVENT
DTSTART;TZID=America/New_York:20251223T170000
DTEND;TZID=America/New_York:20251226T163000
DTSTAMP:20260422T071352
CREATED:20251201T122320Z
LAST-MODIFIED:20251201T122322Z
UID:6871-1766509200-1766766600@woodbridgeaa.org
SUMMARY:2025 Alcothon
DESCRIPTION:Stay warm\, safe and sober this holiday season and join us for 72hours of continuous meetings\, food\, fellowship and recovery! \n\n\n\n8 PM SPEAKER EACH NIGHTMEETINGS EVERY HOUR AND HALF \n\n\n\n \n\n\n\nTo sign up scan the QR codeor go tobit.ly/District-28-Alcothon-2025
URL:https://woodbridgeaa.org/event/2025-alcothon/
LOCATION:Bethel United Methodist Church\, 13506 Minnieville Road\, Woodbridge\, VA\, 22192\, United States
ATTACH;FMTTYPE=application/pdf:https://woodbridgeaa.org/wp-content/uploads/2025/12/2025-District-28-Alcothon-Public.pdf
END:VEVENT
END:VCALENDAR