BEGIN:VCALENDAR
VERSION:2.0
PRODID:-//Woodbridge AA - ECPv6.15.20//NONSGML v1.0//EN
CALSCALE:GREGORIAN
METHOD:PUBLISH
X-WR-CALNAME:Woodbridge AA
X-ORIGINAL-URL:https://woodbridgeaa.org
X-WR-CALDESC:Events for Woodbridge AA
REFRESH-INTERVAL;VALUE=DURATION:PT1H
X-Robots-Tag:noindex
X-PUBLISHED-TTL:PT1H
BEGIN:VTIMEZONE
TZID:America/New_York
BEGIN:DAYLIGHT
TZOFFSETFROM:-0500
TZOFFSETTO:-0400
TZNAME:EDT
DTSTART:20220313T070000
END:DAYLIGHT
BEGIN:STANDARD
TZOFFSETFROM:-0400
TZOFFSETTO:-0500
TZNAME:EST
DTSTART:20221106T060000
END:STANDARD
BEGIN:DAYLIGHT
TZOFFSETFROM:-0500
TZOFFSETTO:-0400
TZNAME:EDT
DTSTART:20230312T070000
END:DAYLIGHT
BEGIN:STANDARD
TZOFFSETFROM:-0400
TZOFFSETTO:-0500
TZNAME:EST
DTSTART:20231105T060000
END:STANDARD
BEGIN:DAYLIGHT
TZOFFSETFROM:-0500
TZOFFSETTO:-0400
TZNAME:EDT
DTSTART:20240310T070000
END:DAYLIGHT
BEGIN:STANDARD
TZOFFSETFROM:-0400
TZOFFSETTO:-0500
TZNAME:EST
DTSTART:20241103T060000
END:STANDARD
BEGIN:DAYLIGHT
TZOFFSETFROM:-0500
TZOFFSETTO:-0400
TZNAME:EDT
DTSTART:20250309T070000
END:DAYLIGHT
BEGIN:STANDARD
TZOFFSETFROM:-0400
TZOFFSETTO:-0500
TZNAME:EST
DTSTART:20251102T060000
END:STANDARD
END:VTIMEZONE
BEGIN:VTIMEZONE
TZID:UTC
BEGIN:STANDARD
TZOFFSETFROM:+0000
TZOFFSETTO:+0000
TZNAME:UTC
DTSTART:20220101T000000
END:STANDARD
END:VTIMEZONE
BEGIN:VEVENT
DTSTART;TZID=America/New_York:20240815T190000
DTEND;TZID=America/New_York:20240815T203000
DTSTAMP:20260420T165428
CREATED:20240717T133142Z
LAST-MODIFIED:20240814T003139Z
UID:6574-1723748400-1723753800@woodbridgeaa.org
SUMMARY:District 28\, Monthly Meeting
DESCRIPTION:A meeting of the District’s General Service Representatives and Committee Chairs. This meeting is monthly and happens every third Thursday of the month. \n\n\n\nThis meeting is hybrid and is also on Zoom: \n\n\n\nMeeting ID: 920 3570 6868Passcode: 519440 \n\n\n\nhttps://zoom.us/j/92035706868?pwd=cmxrYU1ITDl4K3hySGhidnRUdUV6UT09
URL:https://woodbridgeaa.org/event/district-28-monthly-meeting-14/
LOCATION:Bethel United Methodist Church\, 13506 Minnieville Road\, Woodbridge\, VA\, 22192\, United States
END:VEVENT
BEGIN:VEVENT
DTSTART;TZID=America/New_York:20240727T033000
DTEND;TZID=America/New_York:20240727T073000
DTSTAMP:20260420T165428
CREATED:20240628T232135Z
LAST-MODIFIED:20240628T232137Z
UID:6344-1722051000-1722065400@woodbridgeaa.org
SUMMARY:Delegate Sharing Session
DESCRIPTION:
URL:https://woodbridgeaa.org/event/delegate-sharing-session/
LOCATION:St. Christopher’s Episcopal Church\, 6320 Hanover Ave\, Springfield\, Virginia\, 22150\, United States
END:VEVENT
BEGIN:VEVENT
DTSTART;TZID=America/New_York:20240718T190000
DTEND;TZID=America/New_York:20240718T203000
DTSTAMP:20260420T165428
CREATED:20240619T155744Z
LAST-MODIFIED:20240619T155747Z
UID:6269-1721329200-1721334600@woodbridgeaa.org
SUMMARY:District 28\, Monthly Meeting
DESCRIPTION:A meeting of the District’s General Service Representatives and Committee Chairs. This meeting is monthly and happens every third Thursday of the month. \n\n\n\nThis meeting is hybrid and is also on Zoom: \n\n\n\nMeeting ID: 920 3570 6868Passcode: 519440 \n\n\n\nhttps://zoom.us/j/92035706868?pwd=cmxrYU1ITDl4K3hySGhidnRUdUV6UT09
URL:https://woodbridgeaa.org/event/district-28-monthly-meeting-13/
LOCATION:Bethel United Methodist Church\, 13506 Minnieville Road\, Woodbridge\, VA\, 22192\, United States
END:VEVENT
BEGIN:VEVENT
DTSTART;TZID=America/New_York:20240620T070000
DTEND;TZID=America/New_York:20240620T203000
DTSTAMP:20260420T165428
CREATED:20240514T225749Z
LAST-MODIFIED:20240514T225751Z
UID:6112-1718866800-1718915400@woodbridgeaa.org
SUMMARY:District 28\, Monthly Meeting
DESCRIPTION:A meeting of the District’s General Service Representatives and Committee Chairs. This meeting is monthly and happens every third Thursday of the month. \n\n\n\nThis meeting is hybrid and is also on Zoom: \n\n\n\nMeeting ID: 920 3570 6868Passcode: 519440 \n\n\n\nhttps://zoom.us/j/92035706868?pwd=cmxrYU1ITDl4K3hySGhidnRUdUV6UT09
URL:https://woodbridgeaa.org/event/district-28-monthly-meeting-12/
LOCATION:Bethel United Methodist Church\, 13506 Minnieville Road\, Woodbridge\, VA\, 22192\, United States
END:VEVENT
BEGIN:VEVENT
DTSTART;TZID=America/New_York:20240516T190000
DTEND;TZID=America/New_York:20240516T203000
DTSTAMP:20260420T165428
CREATED:20240417T211506Z
LAST-MODIFIED:20240417T211507Z
UID:5814-1715886000-1715891400@woodbridgeaa.org
SUMMARY:District 28\, Monthly Meeting
DESCRIPTION:A meeting of the District’s General Service Representatives and Committee Chairs. This meeting is monthly and happens every third Thursday of the month. \n\n\n\nThis meeting is hybrid and is also on Zoom: \n\n\n\nMeeting ID: 920 3570 6868Passcode: 519440 \n\n\n\nhttps://zoom.us/j/92035706868?pwd=cmxrYU1ITDl4K3hySGhidnRUdUV6UT09
URL:https://woodbridgeaa.org/event/district-28-monthly-meeting-11/
LOCATION:Bethel United Methodist Church\, 13506 Minnieville Road\, Woodbridge\, VA\, 22192\, United States
END:VEVENT
BEGIN:VEVENT
DTSTART;TZID=America/New_York:20240418T190000
DTEND;TZID=America/New_York:20240418T203000
DTSTAMP:20260420T165428
CREATED:20240320T223229Z
LAST-MODIFIED:20240320T223230Z
UID:5803-1713466800-1713472200@woodbridgeaa.org
SUMMARY:District 28\, Monthly Meeting
DESCRIPTION:A meeting of the District’s General Service Representatives and Committee Chairs. This meeting is monthly and happens every third Thursday of the month. \n\n\n\nThis meeting is hybrid and is also on Zoom: \n\n\n\nMeeting ID: 920 3570 6868Passcode: 519440 \n\n\n\nhttps://zoom.us/j/92035706868?pwd=cmxrYU1ITDl4K3hySGhidnRUdUV6UT09
URL:https://woodbridgeaa.org/event/district-28-monthly-meeting-10/
LOCATION:Bethel United Methodist Church\, 13506 Minnieville Road\, Woodbridge\, VA\, 22192\, United States
END:VEVENT
BEGIN:VEVENT
DTSTART;TZID=America/New_York:20240321T190000
DTEND;TZID=America/New_York:20240321T203000
DTSTAMP:20260420T165428
CREATED:20240215T235317Z
LAST-MODIFIED:20240215T235320Z
UID:5792-1711047600-1711053000@woodbridgeaa.org
SUMMARY:District 28\, Monthly Meeting
DESCRIPTION:A meeting of the District’s General Service Representatives and Committee Chairs. This meeting is monthly and happens every third Thursday of the month. \n\n\n\nThis meeting is hybrid and is also on Zoom: \n\n\n\nMeeting ID: 920 3570 6868Passcode: 519440 \n\n\n\nhttps://zoom.us/j/92035706868?pwd=cmxrYU1ITDl4K3hySGhidnRUdUV6UT09
URL:https://woodbridgeaa.org/event/district-28-monthly-meeting-9/
LOCATION:Bethel United Methodist Church\, 13506 Minnieville Road\, Woodbridge\, VA\, 22192\, United States
END:VEVENT
BEGIN:VEVENT
DTSTART;TZID=America/New_York:20240301T183000
DTEND;TZID=America/New_York:20240301T190000
DTSTAMP:20260420T165428
CREATED:20240227T004357Z
LAST-MODIFIED:20240227T004359Z
UID:5795-1709317800-1709319600@woodbridgeaa.org
SUMMARY:Treatment Committee Meeting
DESCRIPTION:Room 3
URL:https://woodbridgeaa.org/event/treatment-committee-meeting/
LOCATION:Bethel United Methodist Church\, 13506 Minnieville Road\, Woodbridge\, VA\, 22192\, United States
END:VEVENT
BEGIN:VEVENT
DTSTART;TZID=America/New_York:20240215T190000
DTEND;TZID=America/New_York:20240215T203000
DTSTAMP:20260420T165428
CREATED:20240117T221040Z
LAST-MODIFIED:20240117T221042Z
UID:5784-1708023600-1708029000@woodbridgeaa.org
SUMMARY:District 28\, Monthly Meeting
DESCRIPTION:A meeting of the District’s General Service Representatives and Committee Chairs. This meeting is monthly and happens every third Thursday of the month. \n\n\n\nThis meeting is hybrid and is also on Zoom: \n\n\n\nMeeting ID: 920 3570 6868Passcode: 519440 \n\n\n\nhttps://zoom.us/j/92035706868?pwd=cmxrYU1ITDl4K3hySGhidnRUdUV6UT09
URL:https://woodbridgeaa.org/event/district-28-monthly-meeting-8/
LOCATION:Bethel United Methodist Church\, 13506 Minnieville Road\, Woodbridge\, VA\, 22192\, United States
END:VEVENT
BEGIN:VEVENT
DTSTART;TZID=America/New_York:20240118T190000
DTEND;TZID=America/New_York:20240118T203000
DTSTAMP:20260420T165428
CREATED:20231221T005855Z
LAST-MODIFIED:20231221T005857Z
UID:5775-1705604400-1705609800@woodbridgeaa.org
SUMMARY:District 28\, Monthly Meeting
DESCRIPTION:A meeting of the District’s General Service Representatives and Committee Chairs. This meeting is monthly and happens every third Thursday of the month.  \n\n\n\n \n\n\n\nThis meeting is hybrid and is also on Zoom: \n\n\n\nMeeting ID: 920 3570 6868Passcode: 519440 \n\n\n\nhttps://zoom.us/j/92035706868?pwd=cmxrYU1ITDl4K3hySGhidnRUdUV6UT09
URL:https://woodbridgeaa.org/event/district-28-monthly-meeting-7/
LOCATION:Bethel United Methodist Church\, 13506 Minnieville Road\, Woodbridge\, VA\, 22192\, United States
END:VEVENT
BEGIN:VEVENT
DTSTART;TZID=America/New_York:20231223T160000
DTEND;TZID=America/New_York:20231226T163000
DTSTAMP:20260420T165428
CREATED:20231010T231946Z
LAST-MODIFIED:20231025T165148Z
UID:5433-1703347200-1703608200@woodbridgeaa.org
SUMMARY:2023 Alcothon
DESCRIPTION:COME TO OUR HOLIDAY CELEBRATION OF SOBRIETY! \n\n\n\n\n\n\n\n \n\n\n\nEmail adcm@woodbridgeaa.org to sign up!
URL:https://woodbridgeaa.org/event/2023-alcothon/
LOCATION:Bethel United Methodist Church\, 13506 Minnieville Road\, Woodbridge\, VA\, 22192\, United States
ATTACH;FMTTYPE=image/png:https://woodbridgeaa.org/wp-content/uploads/2023/10/2023-District-28-Public-Flyer.png
END:VEVENT
BEGIN:VEVENT
DTSTART;TZID=America/New_York:20231221T190000
DTEND;TZID=America/New_York:20231221T203000
DTSTAMP:20260420T165428
CREATED:20231115T201308Z
LAST-MODIFIED:20231115T201308Z
UID:5693-1703185200-1703190600@woodbridgeaa.org
SUMMARY:District 28\, Monthly Meeting
DESCRIPTION:A meeting of the District’s General Service Representatives and Committee Chairs. This meeting is monthly and happens every third Thursday of the month. \n\n\n\nThis meeting is hybrid and is also on Zoom: \n\n\n\nMeeting ID: 920 3570 6868Passcode: 519440 \n\n\n\nhttps://zoom.us/j/92035706868?pwd=cmxrYU1ITDl4K3hySGhidnRUdUV6UT09
URL:https://woodbridgeaa.org/event/district-28-monthly-meeting-6/
LOCATION:Bethel United Methodist Church\, 13506 Minnieville Road\, Woodbridge\, VA\, 22192\, United States
END:VEVENT
BEGIN:VEVENT
DTSTART;TZID=America/New_York:20231210T170000
DTEND;TZID=America/New_York:20231210T200000
DTSTAMP:20260420T165428
CREATED:20231202T152823Z
LAST-MODIFIED:20231202T152825Z
UID:5696-1702227600-1702238400@woodbridgeaa.org
SUMMARY:Holiday Party
DESCRIPTION:The folks at the Serenity Sunday Group of AA are hosting a holiday party. Bring a dish to share :). The doors open at five\, we’ll eat\, and the meeting starts at 8. The entrance is in the back of the church.
URL:https://woodbridgeaa.org/event/holiday-party/
LOCATION:Good Shepherd Lutheran Church\, 15695 Blackburn Rd\, Woodbridge\, Virginia\, 22191\, United States
END:VEVENT
BEGIN:VEVENT
DTSTART;TZID=America/New_York:20231116T190000
DTEND;TZID=America/New_York:20231116T203000
DTSTAMP:20260420T165428
CREATED:20231015T221214Z
LAST-MODIFIED:20231015T221216Z
UID:5513-1700161200-1700166600@woodbridgeaa.org
SUMMARY:District 28\, Monthly Meeting
DESCRIPTION:A meeting of the District’s General Service Representatives and Committee Chairs. This meeting is monthly and happens every third Thursday of the month.  \n\n\n\n \n\n\n\nThis meeting is hybrid and is also on Zoom: \n\n\n\nMeeting ID: 920 3570 6868Passcode: 519440 \n\n\n\nhttps://zoom.us/j/92035706868?pwd=cmxrYU1ITDl4K3hySGhidnRUdUV6UT09
URL:https://woodbridgeaa.org/event/district-28-monthly-meeting-5/
LOCATION:Bethel United Methodist Church\, 13506 Minnieville Road\, Woodbridge\, VA\, 22192\, United States
END:VEVENT
BEGIN:VEVENT
DTSTART;TZID=America/New_York:20231112T083000
DTEND;TZID=America/New_York:20231112T113000
DTSTAMP:20260420T165428
CREATED:20230909T230457Z
LAST-MODIFIED:20230926T170720Z
UID:5419-1699777800-1699788600@woodbridgeaa.org
SUMMARY:2023 Gratitude Breakfast
DESCRIPTION:More information on the NVI site: https://nvintergroup.org/gratitude-breakfast-2023/
URL:https://woodbridgeaa.org/event/2023-gratitude-breakfast/
LOCATION:Springfield Hilton\, 6550 Loisdale Road\, Springfield\, VA 22150\, 6550 Loisdale Road\, Springfield\, Virginia\, 22150\, United States
END:VEVENT
BEGIN:VEVENT
DTSTART;TZID=America/New_York:20231019T190000
DTEND;TZID=America/New_York:20231019T203000
DTSTAMP:20260420T165428
CREATED:20230920T133438Z
LAST-MODIFIED:20230920T133440Z
UID:5422-1697742000-1697747400@woodbridgeaa.org
SUMMARY:District 28\, Monthly Meeting
DESCRIPTION:A monthly meeting of the District’s General Service Representatives and Committee Chairs. \n\n\n\nIt’s also on Zoom: \n\n\n\nMeeting ID: 920 3570 6868Passcode: 519440 \n\n\n\nhttps://zoom.us/j/92035706868?pwd=cmxrYU1ITDl4K3hySGhidnRUdUV6UT09
URL:https://woodbridgeaa.org/event/district-28-monthly-meeting-4/
LOCATION:Bethel United Methodist Church\, 13506 Minnieville Road\, Woodbridge\, VA\, 22192\, United States
END:VEVENT
BEGIN:VEVENT
DTSTART;TZID=America/New_York:20231013T080000
DTEND;TZID=America/New_York:20231015T170000
DTSTAMP:20260420T165428
CREATED:20230818T212718Z
LAST-MODIFIED:20230818T212720Z
UID:5278-1697184000-1697389200@woodbridgeaa.org
SUMMARY:2023 VAC Fall Assembly
DESCRIPTION:The VAC Fall Assembly is in Roanoke. See the official event: https://aavirginia.org/event/2023-vac-fall-assembly/
URL:https://woodbridgeaa.org/event/2023-vac-fall-assembly/
LOCATION:VA
END:VEVENT
BEGIN:VEVENT
DTSTART;TZID=UTC:20230924T110000
DTEND;TZID=UTC:20230924T160000
DTSTAMP:20260420T165428
CREATED:20230519T211057Z
LAST-MODIFIED:20230729T163022Z
UID:3490-1695553200-1695571200@woodbridgeaa.org
SUMMARY:Fall Picnic
DESCRIPTION:September 24\, 2023 11:00-4:00 at Leesylvania State Park\, Shelter 2 \n\n\n\nSurprise Speaker from Falls Church 2pm\n \nBring a Board\, Card\, or Yard Game to Play!\n \nIf you’d like to do service work and help setup\, be there by 10am\n \nBurgers\, Hotdogs\, & Drinks Supplied\n \nIf your last name starts with A-L\, Please Bring a Side Dish to ShareIf your last name starts with M-P\, Please Bring\, Chips\, Dip\, or Fruit to Share\nIf your last name starts with Q-Z\, Please Bring a Dessert to Share
URL:https://woodbridgeaa.org/event/fall-picnic/
LOCATION:Leesylvania State Park\, 2001 Daniel K Ludwig Dr Woodbridge\, VA 22191\, Woodbridge\, VA\, 22191\, United States
END:VEVENT
BEGIN:VEVENT
DTSTART;TZID=America/New_York:20230921T190000
DTEND;TZID=America/New_York:20230921T203000
DTSTAMP:20260420T165428
CREATED:20230818T212441Z
LAST-MODIFIED:20230909T152834Z
UID:5276-1695322800-1695328200@woodbridgeaa.org
SUMMARY:District 28\, Monthly Meeting
DESCRIPTION:A monthly meeting of the District’s General Service Representatives and Committee Chairs. \n\n\n\n \n\n\n\n \n\n\n\n \n\n\n\nIt’s also on Zoom: \n\n\n\nMeeting ID: 920 3570 6868Passcode: 519440 \n\n\n\nhttps://zoom.us/j/92035706868?pwd=cmxrYU1ITDl4K3hySGhidnRUdUV6UT09
URL:https://woodbridgeaa.org/event/district-28-monthly-meeting-3/
LOCATION:Bethel United Methodist Church\, 13506 Minnieville Road\, Woodbridge\, VA\, 22192\, United States
END:VEVENT
BEGIN:VEVENT
DTSTART;TZID=America/New_York:20230817T190000
DTEND;TZID=America/New_York:20230817T203000
DTSTAMP:20260420T165428
CREATED:20230729T213729Z
LAST-MODIFIED:20230815T231136Z
UID:5269-1692298800-1692304200@woodbridgeaa.org
SUMMARY:District 28\, Monthly Meeting
DESCRIPTION:A monthly meeting of the District’s General Service Representatives and Committee Chairs. \n\n\n\n \n\n\n\nThe District meeting will be held in the classroom\, not the main hall.  We believe it will be in Room #3\, but there should be signs.  \n\n\n\n \n\n\n\nIt’s also on Zoom: \n\n\n\nMeeting ID: 920 3570 6868Passcode: 519440 \n\n\n\nhttps://zoom.us/j/92035706868?pwd=cmxrYU1ITDl4K3hySGhidnRUdUV6UT09
URL:https://woodbridgeaa.org/event/district-28-monthly-meeting-2/
LOCATION:Bethel United Methodist Church\, 13506 Minnieville Road\, Woodbridge\, VA\, 22192\, United States
END:VEVENT
BEGIN:VEVENT
DTSTART;TZID=America/New_York:20230720T190000
DTEND;TZID=America/New_York:20230720T200000
DTSTAMP:20260420T165428
CREATED:20230617T134721Z
LAST-MODIFIED:20230617T134722Z
UID:5110-1689879600-1689883200@woodbridgeaa.org
SUMMARY:District 28 July Meeting
DESCRIPTION:A monthly meeting of the District’s General Service Representatives and Committee Chairs. \n\n\n\nWe’re back in the big room where we hold our Alcothon\, Double Gray Doors on the side of the building. \n\n\n\n \n\n\n\nIt’s also on Zoom: \n\n\n\nMeeting ID: 920 3570 6868Passcode: 519440 \n\n\n\nhttps://zoom.us/j/92035706868?pwd=cmxrYU1ITDl4K3hySGhidnRUdUV6UT09
URL:https://woodbridgeaa.org/event/district-28-july-meeting/
LOCATION:Bethel United Methodist Church\, 13506 Minnieville Road\, Woodbridge\, VA\, 22192\, United States
END:VEVENT
BEGIN:VEVENT
DTSTART;TZID=UTC:20230624T101500
DTEND;TZID=UTC:20230624T133000
DTSTAMP:20260420T165428
CREATED:20230525T024607Z
LAST-MODIFIED:20230525T025808Z
UID:4794-1687601700-1687613400@woodbridgeaa.org
SUMMARY:Delegate Share
DESCRIPTION:
URL:https://woodbridgeaa.org/event/delegate-share/
LOCATION:Expectation Church\, 11924 Braddock Rd\, Fairfax\, VA 22030\, Fairfax\, VA\, 22030\, United States
END:VEVENT
BEGIN:VEVENT
DTSTART;TZID=America/New_York:20230615T190000
DTEND;TZID=America/New_York:20230615T210000
DTSTAMP:20260420T165428
CREATED:20230612T212526Z
LAST-MODIFIED:20230612T212528Z
UID:5043-1686855600-1686862800@woodbridgeaa.org
SUMMARY:District 28 Meeting
DESCRIPTION:A monthly meeting of the District’s General Service Representatives and Committee Chairs. \n\n\n\nWe’re back in the big room where we hold our Alcothon\, Double Gray Doors on the side of the building. \n\n\n\nIt’s also on Zoom: \n\n\n\nMeeting ID: 920 3570 6868Passcode: 519440 \n\n\n\nhttps://zoom.us/j/92035706868?pwd=cmxrYU1ITDl4K3hySGhidnRUdUV6UT09
URL:https://woodbridgeaa.org/event/district-28-meeting/
LOCATION:Bethel United Methodist Church\, 13506 Minnieville Road\, Woodbridge\, VA\, 22192\, United States
END:VEVENT
BEGIN:VEVENT
DTSTART;TZID=UTC:20230603T080000
DTEND;TZID=UTC:20230603T130000
DTSTAMP:20260420T165428
CREATED:20230514T223441Z
LAST-MODIFIED:20230525T025932Z
UID:105-1685779200-1685797200@woodbridgeaa.org
SUMMARY:88 Years Later: How Did We Get Here?
DESCRIPTION:Presentations & Discussions will cover:The Washingtonians\, The Oxford Group\, The Akron Miracle\, Big BookLore\, the Making of The Twelve & Twelve\, andHow We Stay Sober in Spite of OurselvesLunch – 11-11:45 a.m. (Chicken or Pizza provided)Attendees are encouraged to bring side dishes or desserts to share. \nSee the flyer: 2023 History panel presentation FLYER (2) \n\n\n2023 History panel presentation FLYER (2)
URL:https://woodbridgeaa.org/event/88-years-later-how-did-we-get-here/
LOCATION:Bethel United Methodist Church\, 13506 Minnieville Road\, Woodbridge\, VA\, 22192\, United States
END:VEVENT
BEGIN:VEVENT
DTSTART;TZID=UTC:20230527T140000
DTEND;TZID=UTC:20230527T180000
DTSTAMP:20260420T165428
CREATED:20230525T023302Z
LAST-MODIFIED:20230525T024138Z
UID:4789-1685196000-1685210400@woodbridgeaa.org
SUMMARY:Alcopaluza
DESCRIPTION:
URL:https://woodbridgeaa.org/event/alcopaluza/
LOCATION:Rebos\, 12902 Occoquan Rd\, Woodbridge\, VA 22192\, Woodbridge\, 22191\, United States
END:VEVENT
BEGIN:VEVENT
DTSTART;TZID=UTC:20230518T190000
DTEND;TZID=UTC:20230518T203000
DTSTAMP:20260420T165428
CREATED:20230514T224531Z
LAST-MODIFIED:20230514T224531Z
UID:112-1684436400-1684441800@woodbridgeaa.org
SUMMARY:District 28\, Monthly Meeting
DESCRIPTION:A monthly meeting of the District’s General Service Representatives and Committee Chairs. \nWe’re back in the big room where we hold our Alcothon\, Double Gray Doors on the side of the building. \n  \nIt’s also on Zoom: \nMeeting ID: 920 3570 6868\nPasscode: 519440 \nhttps://zoom.us/j/92035706868?pwd=cmxrYU1ITDl4K3hySGhidnRUdUV6UT09
URL:https://woodbridgeaa.org/event/district-28-monthly-meeting/
LOCATION:Bethel United Methodist Church\, 13506 Minnieville Road\, Woodbridge\, VA\, 22192\, United States
END:VEVENT
END:VCALENDAR