BEGIN:VCALENDAR
VERSION:2.0
PRODID:-//Woodbridge AA - ECPv6.15.20//NONSGML v1.0//EN
CALSCALE:GREGORIAN
METHOD:PUBLISH
X-WR-CALNAME:Woodbridge AA
X-ORIGINAL-URL:https://woodbridgeaa.org
X-WR-CALDESC:Events for Woodbridge AA
REFRESH-INTERVAL;VALUE=DURATION:PT1H
X-Robots-Tag:noindex
X-PUBLISHED-TTL:PT1H
BEGIN:VTIMEZONE
TZID:UTC
BEGIN:STANDARD
TZOFFSETFROM:+0000
TZOFFSETTO:+0000
TZNAME:UTC
DTSTART:20220101T000000
END:STANDARD
END:VTIMEZONE
BEGIN:VEVENT
DTSTART;TZID=UTC:20230527T140000
DTEND;TZID=UTC:20230527T180000
DTSTAMP:20260420T180114
CREATED:20230525T023302Z
LAST-MODIFIED:20230525T024138Z
UID:4789-1685196000-1685210400@woodbridgeaa.org
SUMMARY:Alcopaluza
DESCRIPTION:
URL:https://woodbridgeaa.org/event/alcopaluza/
LOCATION:Rebos\, 12902 Occoquan Rd\, Woodbridge\, VA 22192\, Woodbridge\, 22191\, United States
END:VEVENT
BEGIN:VEVENT
DTSTART;TZID=UTC:20230518T190000
DTEND;TZID=UTC:20230518T203000
DTSTAMP:20260420T180114
CREATED:20230514T224531Z
LAST-MODIFIED:20230514T224531Z
UID:112-1684436400-1684441800@woodbridgeaa.org
SUMMARY:District 28\, Monthly Meeting
DESCRIPTION:A monthly meeting of the District’s General Service Representatives and Committee Chairs. \nWe’re back in the big room where we hold our Alcothon\, Double Gray Doors on the side of the building. \n  \nIt’s also on Zoom: \nMeeting ID: 920 3570 6868\nPasscode: 519440 \nhttps://zoom.us/j/92035706868?pwd=cmxrYU1ITDl4K3hySGhidnRUdUV6UT09
URL:https://woodbridgeaa.org/event/district-28-monthly-meeting/
LOCATION:Bethel United Methodist Church\, 13506 Minnieville Road\, Woodbridge\, VA\, 22192\, United States
END:VEVENT
END:VCALENDAR