BEGIN:VCALENDAR
VERSION:2.0
PRODID:-//Woodbridge AA - ECPv6.15.20//NONSGML v1.0//EN
CALSCALE:GREGORIAN
METHOD:PUBLISH
X-WR-CALNAME:Woodbridge AA
X-ORIGINAL-URL:https://woodbridgeaa.org
X-WR-CALDESC:Events for Woodbridge AA
REFRESH-INTERVAL;VALUE=DURATION:PT1H
X-Robots-Tag:noindex
X-PUBLISHED-TTL:PT1H
BEGIN:VTIMEZONE
TZID:America/New_York
BEGIN:DAYLIGHT
TZOFFSETFROM:-0500
TZOFFSETTO:-0400
TZNAME:EDT
DTSTART:20230312T070000
END:DAYLIGHT
BEGIN:STANDARD
TZOFFSETFROM:-0400
TZOFFSETTO:-0500
TZNAME:EST
DTSTART:20231105T060000
END:STANDARD
BEGIN:DAYLIGHT
TZOFFSETFROM:-0500
TZOFFSETTO:-0400
TZNAME:EDT
DTSTART:20240310T070000
END:DAYLIGHT
BEGIN:STANDARD
TZOFFSETFROM:-0400
TZOFFSETTO:-0500
TZNAME:EST
DTSTART:20241103T060000
END:STANDARD
BEGIN:DAYLIGHT
TZOFFSETFROM:-0500
TZOFFSETTO:-0400
TZNAME:EDT
DTSTART:20250309T070000
END:DAYLIGHT
BEGIN:STANDARD
TZOFFSETFROM:-0400
TZOFFSETTO:-0500
TZNAME:EST
DTSTART:20251102T060000
END:STANDARD
END:VTIMEZONE
BEGIN:VEVENT
DTSTART;TZID=America/New_York:20240919T190000
DTEND;TZID=America/New_York:20240919T203000
DTSTAMP:20260424T212019
CREATED:20240813T191421Z
LAST-MODIFIED:20240813T191423Z
UID:6582-1726772400-1726777800@woodbridgeaa.org
SUMMARY:District 28\, Monthly Meeting
DESCRIPTION:A meeting of the District’s General Service Representatives and Committee Chairs. This meeting is monthly and happens every third Thursday of the month. \n\n\n\nThis meeting is hybrid and is also on Zoom: \n\n\n\nMeeting ID: 920 3570 6868Passcode: 519440 \n\n\n\nhttps://zoom.us/j/92035706868?pwd=cmxrYU1ITDl4K3hySGhidnRUdUV6UT09
URL:https://woodbridgeaa.org/event/district-28-monthly-meeting-15/
LOCATION:Bethel United Methodist Church\, 13506 Minnieville Road\, Woodbridge\, VA\, 22192\, United States
END:VEVENT
BEGIN:VEVENT
DTSTART;TZID=America/New_York:20240922T110000
DTEND;TZID=America/New_York:20240922T160000
DTSTAMP:20260424T212019
CREATED:20240525T162537Z
LAST-MODIFIED:20240525T162540Z
UID:6188-1727002800-1727020800@woodbridgeaa.org
SUMMARY:Woodbridge AA District Picnic
DESCRIPTION:
URL:https://woodbridgeaa.org/event/woodbridge-aa-district-picnic/
LOCATION:Leesylvania State Park\, 2001 Daniel K Ludwig Dr Woodbridge\, VA 22191\, Woodbridge\, VA\, 22191\, United States
ATTACH;FMTTYPE=image/png:https://woodbridgeaa.org/wp-content/uploads/2024/05/2024-District-28-Fall-Picnic.png
END:VEVENT
END:VCALENDAR