BEGIN:VCALENDAR
VERSION:2.0
PRODID:-//Woodbridge AA - ECPv6.15.20//NONSGML v1.0//EN
CALSCALE:GREGORIAN
METHOD:PUBLISH
X-WR-CALNAME:Woodbridge AA
X-ORIGINAL-URL:https://woodbridgeaa.org
X-WR-CALDESC:Events for Woodbridge AA
REFRESH-INTERVAL;VALUE=DURATION:PT1H
X-Robots-Tag:noindex
X-PUBLISHED-TTL:PT1H
BEGIN:VTIMEZONE
TZID:America/New_York
BEGIN:DAYLIGHT
TZOFFSETFROM:-0500
TZOFFSETTO:-0400
TZNAME:EDT
DTSTART:20240310T070000
END:DAYLIGHT
BEGIN:STANDARD
TZOFFSETFROM:-0400
TZOFFSETTO:-0500
TZNAME:EST
DTSTART:20241103T060000
END:STANDARD
BEGIN:DAYLIGHT
TZOFFSETFROM:-0500
TZOFFSETTO:-0400
TZNAME:EDT
DTSTART:20250309T070000
END:DAYLIGHT
BEGIN:STANDARD
TZOFFSETFROM:-0400
TZOFFSETTO:-0500
TZNAME:EST
DTSTART:20251102T060000
END:STANDARD
BEGIN:DAYLIGHT
TZOFFSETFROM:-0500
TZOFFSETTO:-0400
TZNAME:EDT
DTSTART:20260308T070000
END:DAYLIGHT
BEGIN:STANDARD
TZOFFSETFROM:-0400
TZOFFSETTO:-0500
TZNAME:EST
DTSTART:20261101T060000
END:STANDARD
END:VTIMEZONE
BEGIN:VEVENT
DTSTART;TZID=America/New_York:20250918T190000
DTEND;TZID=America/New_York:20250918T203000
DTSTAMP:20260424T043904
CREATED:20250913T004611Z
LAST-MODIFIED:20250913T004612Z
UID:6837-1758222000-1758227400@woodbridgeaa.org
SUMMARY:District 28\, Monthly Meeting
DESCRIPTION:A meeting of the District’s General Service Representatives and Committee Chairs. This meeting is monthly and happens every third Thursday of the month. \n\n\n\nThis meeting is hybrid and is also on Google Meet: \n\n\n\nGoogle Meet joining infoVideo call link: https://meet.google.com/tob-bysb-mjhOr dial: ‪(US) +1 515-329-5382‬ PIN: ‪670 418 807‬#More phone numbers: https://tel.meet/tob-bysb-mjh?pin=4298559092095
URL:https://woodbridgeaa.org/event/district-28-monthly-meeting-27/
LOCATION:Bethel United Methodist Church\, 13506 Minnieville Road\, Woodbridge\, VA\, 22192\, United States
ATTACH;FMTTYPE=image/png:https://woodbridgeaa.org/wp-content/uploads/2025/09/District-28-logo.png
END:VEVENT
BEGIN:VEVENT
DTSTART;TZID=America/New_York:20250928T110000
DTEND;TZID=America/New_York:20250928T160000
DTSTAMP:20260424T043904
CREATED:20250818T022611Z
LAST-MODIFIED:20250818T022612Z
UID:6817-1759057200-1759075200@woodbridgeaa.org
SUMMARY:AA Annual Fall Picnic
DESCRIPTION:Come join us for hamburgers\, hotdogs\, and a sobriety countdown as we celebrate fellowship! Bring a side dish. Speaker at 2pm! \n\n\n\n \n\n\n\nEvent will be held in Shelter #2 at Leesylvania State Park  \n\n\n\nThere is a 10 dollar entry fee to the park per car.
URL:https://woodbridgeaa.org/event/aa-annual-fall-picnic/
LOCATION:Leesylvania State Park\, 2001 Daniel K Ludwig Dr Woodbridge\, VA 22191\, Woodbridge\, VA\, 22191\, United States
ATTACH;FMTTYPE=image/jpeg:https://woodbridgeaa.org/wp-content/uploads/2025/08/1000003529.jpg
END:VEVENT
END:VCALENDAR