BEGIN:VCALENDAR
VERSION:2.0
PRODID:-//Woodbridge AA - ECPv6.15.20//NONSGML v1.0//EN
CALSCALE:GREGORIAN
METHOD:PUBLISH
X-ORIGINAL-URL:https://woodbridgeaa.org
X-WR-CALDESC:Events for Woodbridge AA
REFRESH-INTERVAL;VALUE=DURATION:PT1H
X-Robots-Tag:noindex
X-PUBLISHED-TTL:PT1H
BEGIN:VTIMEZONE
TZID:America/New_York
BEGIN:DAYLIGHT
TZOFFSETFROM:-0500
TZOFFSETTO:-0400
TZNAME:EDT
DTSTART:20240310T070000
END:DAYLIGHT
BEGIN:STANDARD
TZOFFSETFROM:-0400
TZOFFSETTO:-0500
TZNAME:EST
DTSTART:20241103T060000
END:STANDARD
BEGIN:DAYLIGHT
TZOFFSETFROM:-0500
TZOFFSETTO:-0400
TZNAME:EDT
DTSTART:20250309T070000
END:DAYLIGHT
BEGIN:STANDARD
TZOFFSETFROM:-0400
TZOFFSETTO:-0500
TZNAME:EST
DTSTART:20251102T060000
END:STANDARD
BEGIN:DAYLIGHT
TZOFFSETFROM:-0500
TZOFFSETTO:-0400
TZNAME:EDT
DTSTART:20260308T070000
END:DAYLIGHT
BEGIN:STANDARD
TZOFFSETFROM:-0400
TZOFFSETTO:-0500
TZNAME:EST
DTSTART:20261101T060000
END:STANDARD
END:VTIMEZONE
BEGIN:VEVENT
DTSTART;TZID=America/New_York:20251101T180000
DTEND;TZID=America/New_York:20251101T220000
DTSTAMP:20260422T071935
CREATED:20251025T223108Z
LAST-MODIFIED:20251025T223110Z
UID:6862-1762020000-1762034400@woodbridgeaa.org
SUMMARY:Halloween Party at REBOS
DESCRIPTION:Theme: Saturday night Live or Living Color \n\n\n\n(Preacher Glenn is an acceptable substitute) \n\n\n\n \n\n\n\nDress up and bring a dish \n\n\n\nWinners of our best appetizer & costume contests will receive a $50 gift card \n\n\n\nMusic by Those Forgotten \n\n\n\n \n\n\n\nAll proceeds go towards REBOS bathroom renovations
URL:https://woodbridgeaa.org/event/halloween-party-at-rebos/
LOCATION:REBOS\, 12902 Occoquan Road\, woodbridge\, Virginia\, 22192\, United States
ATTACH;FMTTYPE=image/png:https://woodbridgeaa.org/wp-content/uploads/2025/10/halloween-party-2025.png
END:VEVENT
BEGIN:VEVENT
DTSTART;TZID=America/New_York:20251109T083000
DTEND;TZID=America/New_York:20251109T083000
DTSTAMP:20260422T071935
CREATED:20250409T233407Z
LAST-MODIFIED:20250409T233408Z
UID:6748-1762677000-1762677000@woodbridgeaa.org
SUMMARY:Gratitude Breakfast Fundraiser
DESCRIPTION:EARLY BRID tickets: $70 Tables: $650 \n\n\n\nContact Travis Christenson travischristenson@gmail.com
URL:https://woodbridgeaa.org/event/gratitude-breakfast-fundraiser/
LOCATION:Springfield Hilton\, 6550 Loisdale Road\, Springfield\, VA 22150\, 6550 Loisdale Road\, Springfield\, Virginia\, 22150\, United States
ATTACH;FMTTYPE=image/jpeg:https://woodbridgeaa.org/wp-content/uploads/2025/04/Gratetude-Breakfast.jpg
END:VEVENT
BEGIN:VEVENT
DTSTART;TZID=America/New_York:20251120T190000
DTEND;TZID=America/New_York:20251120T203000
DTSTAMP:20260422T071935
CREATED:20250918T230838Z
LAST-MODIFIED:20250918T230839Z
UID:6850-1763665200-1763670600@woodbridgeaa.org
SUMMARY:District 28\, Monthly Meeting
DESCRIPTION:A meeting of the District’s General Service Representatives and Committee Chairs. This meeting is monthly and happens every third Thursday of the month. \n\n\n\nThis meeting is hybrid and is also on Google Meet: \n\n\n\nGoogle Meet joining infoVideo call link: https://meet.google.com/tob-bysb-mjhOr dial: ‪(US) +1 515-329-5382 PIN: ‪670 418 807#More phone numbers: https://tel.meet/tob-bysb-mjh?pin=4298559092095
URL:https://woodbridgeaa.org/event/district-28-monthly-meeting-29/
LOCATION:Bethel United Methodist Church\, 13506 Minnieville Road\, Woodbridge\, VA\, 22192\, United States
ATTACH;FMTTYPE=image/png:https://woodbridgeaa.org/wp-content/uploads/2025/09/District-28-logo-2.png
END:VEVENT
END:VCALENDAR